BEGIN:VCALENDAR
VERSION:2.0
PRODID:-//Downtown Alliance - ECPv6.15.20//NONSGML v1.0//EN
CALSCALE:GREGORIAN
METHOD:PUBLISH
X-ORIGINAL-URL:https://downtownny.com
X-WR-CALDESC:Events for Downtown Alliance
REFRESH-INTERVAL;VALUE=DURATION:PT1H
X-Robots-Tag:noindex
X-PUBLISHED-TTL:PT1H
BEGIN:VTIMEZONE
TZID:America/New_York
BEGIN:DAYLIGHT
TZOFFSETFROM:-0500
TZOFFSETTO:-0400
TZNAME:EDT
DTSTART:20240310T070000
END:DAYLIGHT
BEGIN:STANDARD
TZOFFSETFROM:-0400
TZOFFSETTO:-0500
TZNAME:EST
DTSTART:20241103T060000
END:STANDARD
BEGIN:DAYLIGHT
TZOFFSETFROM:-0500
TZOFFSETTO:-0400
TZNAME:EDT
DTSTART:20250309T070000
END:DAYLIGHT
BEGIN:STANDARD
TZOFFSETFROM:-0400
TZOFFSETTO:-0500
TZNAME:EST
DTSTART:20251102T060000
END:STANDARD
BEGIN:DAYLIGHT
TZOFFSETFROM:-0500
TZOFFSETTO:-0400
TZNAME:EDT
DTSTART:20260308T070000
END:DAYLIGHT
BEGIN:STANDARD
TZOFFSETFROM:-0400
TZOFFSETTO:-0500
TZNAME:EST
DTSTART:20261101T060000
END:STANDARD
END:VTIMEZONE
BEGIN:VEVENT
DTSTART;TZID=America/New_York:20250405T143000
DTEND;TZID=America/New_York:20250405T143000
DTSTAMP:20260421T170601
CREATED:20250331T134949Z
LAST-MODIFIED:20250331T134949Z
UID:106226-1743863400-1743863400@downtownny.com
SUMMARY:Women Who Wowed
DESCRIPTION:From pioneering professionals to groundbreaking activists and maritime leaders\, this walking tour brings to light the stories of women who fought against gender and racial discrimination to leave their mark on history. Discover the impact of those who established the first hospital staffed entirely by women\, led the charge for workplace equality—including something as fundamental as a women’s restroom in the New York Stock Exchange—and much more. This engaging 90-minute journey winds through the streets of the South Street Seaport Historic District and Lower Manhattan\, uncovering the often under-recognized contributions of the women who helped build this city. Registration is required. Tours are rain or shine. Content is appropriate for attendees aged 13 and up.
URL:https://downtownny.com/event/women-who-wowed/
CATEGORIES:Tours
END:VEVENT
BEGIN:VEVENT
DTSTART;TZID=America/New_York:20250419T110000
DTEND;TZID=America/New_York:20250419T110000
DTSTAMP:20260421T170601
CREATED:20250331T135204Z
LAST-MODIFIED:20250331T135204Z
UID:106283-1745060400-1745060400@downtownny.com
SUMMARY:Washington & Hamilton in New York City Walking Tour
DESCRIPTION:American history comes alive on the streets where it happened in historic locations critical to the lives and partnership of Alexander Hamilton and George Washington! Relive the first reading of the Declaration of Independence and the subsequent revolt\, honor the fallen American troops in the Battle of Brooklyn\, celebrate the Constitution’s ratification\, and applaud Hamilton’s achievement of the Compromise of 1790. Stand at the site of Washington’s momentous inauguration\, dig into the history of the infamous duel between Hamilton and Aaron Burr\, pay your respects at the final resting place of the Hamiltons\, and much more. This is an immersive tour for lovers of United States’ history and the musical Hamilton!
URL:https://downtownny.com/event/washington-hamilton-in-new-york-city-walking-tour-5/
CATEGORIES:Tours
END:VEVENT
BEGIN:VEVENT
DTSTART;TZID=America/New_York:20250419T143000
DTEND;TZID=America/New_York:20250419T143000
DTSTAMP:20260421T170601
CREATED:20250331T135205Z
LAST-MODIFIED:20250331T135205Z
UID:106285-1745073000-1745073000@downtownny.com
SUMMARY:Women Who Wowed
DESCRIPTION:From pioneering professionals to groundbreaking activists and maritime leaders\, this walking tour brings to light the stories of women who fought against gender and racial discrimination to leave their mark on history. Discover the impact of those who established the first hospital staffed entirely by women\, led the charge for workplace equality—including something as fundamental as a women’s restroom in the New York Stock Exchange—and much more. This engaging 90-minute journey winds through the streets of the South Street Seaport Historic District and Lower Manhattan\, uncovering the often under-recognized contributions of the women who helped build this city. Registration is required. Tours are rain or shine. Content is appropriate for attendees aged 13 and up.
URL:https://downtownny.com/event/women-who-wowed-2/
CATEGORIES:Tours
END:VEVENT
BEGIN:VEVENT
DTSTART;TZID=America/New_York:20250426T110000
DTEND;TZID=America/New_York:20250426T110000
DTSTAMP:20260421T170601
CREATED:20250331T135252Z
LAST-MODIFIED:20250331T135252Z
UID:106309-1745665200-1745665200@downtownny.com
SUMMARY:Washington & Hamilton in New York City Walking Tour
DESCRIPTION:American history comes alive on the streets where it happened in historic locations critical to the lives and partnership of Alexander Hamilton and George Washington! Relive the first reading of the Declaration of Independence and the subsequent revolt\, honor the fallen American troops in the Battle of Brooklyn\, celebrate the Constitution’s ratification\, and applaud Hamilton’s achievement of the Compromise of 1790. Stand at the site of Washington’s momentous inauguration\, dig into the history of the infamous duel between Hamilton and Aaron Burr\, pay your respects at the final resting place of the Hamiltons\, and much more. This is an immersive tour for lovers of United States’ history and the musical Hamilton!
URL:https://downtownny.com/event/washington-hamilton-in-new-york-city-walking-tour-6/
CATEGORIES:Tours
END:VEVENT
BEGIN:VEVENT
DTSTART;TZID=America/New_York:20250426T140000
DTEND;TZID=America/New_York:20250426T140000
DTSTAMP:20260421T170601
CREATED:20250331T135252Z
LAST-MODIFIED:20250331T135252Z
UID:106310-1745676000-1745676000@downtownny.com
SUMMARY:Sinister Secrets of the Seaport Walking Tour
DESCRIPTION:90-minute walking tour that will take you on a winding journey that unravels the darker past of the South Street Seaport Historic District and Lower Manhattan.
URL:https://downtownny.com/event/sinister-secrets-of-the-seaport-walking-tour-26/
CATEGORIES:Tours
END:VEVENT
END:VCALENDAR