BEGIN:VCALENDAR
VERSION:2.0
PRODID:-//Downtown Alliance - ECPv6.15.20//NONSGML v1.0//EN
CALSCALE:GREGORIAN
METHOD:PUBLISH
X-ORIGINAL-URL:https://downtownny.com
X-WR-CALDESC:Events for Downtown Alliance
REFRESH-INTERVAL;VALUE=DURATION:PT1H
X-Robots-Tag:noindex
X-PUBLISHED-TTL:PT1H
BEGIN:VTIMEZONE
TZID:America/New_York
BEGIN:DAYLIGHT
TZOFFSETFROM:-0500
TZOFFSETTO:-0400
TZNAME:EDT
DTSTART:20240310T070000
END:DAYLIGHT
BEGIN:STANDARD
TZOFFSETFROM:-0400
TZOFFSETTO:-0500
TZNAME:EST
DTSTART:20241103T060000
END:STANDARD
BEGIN:DAYLIGHT
TZOFFSETFROM:-0500
TZOFFSETTO:-0400
TZNAME:EDT
DTSTART:20250309T070000
END:DAYLIGHT
BEGIN:STANDARD
TZOFFSETFROM:-0400
TZOFFSETTO:-0500
TZNAME:EST
DTSTART:20251102T060000
END:STANDARD
BEGIN:DAYLIGHT
TZOFFSETFROM:-0500
TZOFFSETTO:-0400
TZNAME:EDT
DTSTART:20260308T070000
END:DAYLIGHT
BEGIN:STANDARD
TZOFFSETFROM:-0400
TZOFFSETTO:-0500
TZNAME:EST
DTSTART:20261101T060000
END:STANDARD
END:VTIMEZONE
BEGIN:VEVENT
DTSTART;TZID=America/New_York:20250703T110000
DTEND;TZID=America/New_York:20250703T110000
DTSTAMP:20260422T201632
CREATED:20250630T184125Z
LAST-MODIFIED:20250630T184125Z
UID:110253-1751540400-1751540400@downtownny.com
SUMMARY:The Forty Years Manhattan was Dutch Walking Tour
DESCRIPTION:Beginning in 1624\, the Dutch West India Company transformed an edge of Manhattan wilderness into the colonial trading post of New Amsterdam. They controlled Manhattan for only 40 years\, until 1664\, when the British took over. And yet the Dutch influence set the character of New York for the next 400 years\, particularly in its money orientation\, and tolerance for ethnic and religious diversity. By 1644 the roughly 500 inhabitants of New Amsterdam included a wide variety of Europeans\, Blacks both enslaved and free\, and native Lenapes. Over 18 languages were heard on the streets. There were Dutch Reform adherents\, Catholics\, Quakers\, and Anglicans. The first Jewish settlers in North America came to these streets in 1654.
URL:https://downtownny.com/event/the-forty-years-manhattan-was-dutch-walking-tour/
CATEGORIES:Tours
END:VEVENT
BEGIN:VEVENT
DTSTART;TZID=America/New_York:20250703T130000
DTEND;TZID=America/New_York:20250703T130000
DTSTAMP:20260422T201632
CREATED:20250630T184125Z
LAST-MODIFIED:20250630T184125Z
UID:110255-1751547600-1751547600@downtownny.com
SUMMARY:Jewish Colonial Walking Tour
DESCRIPTION:The first Jewish immigrants to Manhattan arrived in 1654\, during Dutch colonial times. The small group of 23 men\, women\, & children were allowed to stay\, but with considerable restrictions. Their immediate concern was how to earn a living when many occupations were closed to them. During the Dutch and British periods\, groups of Jews arrived from a variety of countries. The process of their making Manhattan a home involved creating a place to pray\, providing kosher food\, keeping their children within the faith\, and balancing the interests of Sephardic and Ashkenazi residents.
URL:https://downtownny.com/event/jewish-colonial-walking-tour/
CATEGORIES:Tours
END:VEVENT
END:VCALENDAR