BEGIN:VCALENDAR
VERSION:2.0
PRODID:-//Downtown Alliance - ECPv6.15.20//NONSGML v1.0//EN
CALSCALE:GREGORIAN
METHOD:PUBLISH
X-WR-CALNAME:Downtown Alliance
X-ORIGINAL-URL:https://downtownny.com
X-WR-CALDESC:Events for Downtown Alliance
REFRESH-INTERVAL;VALUE=DURATION:PT1H
X-Robots-Tag:noindex
X-PUBLISHED-TTL:PT1H
BEGIN:VTIMEZONE
TZID:America/New_York
BEGIN:DAYLIGHT
TZOFFSETFROM:-0500
TZOFFSETTO:-0400
TZNAME:EDT
DTSTART:20240310T070000
END:DAYLIGHT
BEGIN:STANDARD
TZOFFSETFROM:-0400
TZOFFSETTO:-0500
TZNAME:EST
DTSTART:20241103T060000
END:STANDARD
BEGIN:DAYLIGHT
TZOFFSETFROM:-0500
TZOFFSETTO:-0400
TZNAME:EDT
DTSTART:20250309T070000
END:DAYLIGHT
BEGIN:STANDARD
TZOFFSETFROM:-0400
TZOFFSETTO:-0500
TZNAME:EST
DTSTART:20251102T060000
END:STANDARD
BEGIN:DAYLIGHT
TZOFFSETFROM:-0500
TZOFFSETTO:-0400
TZNAME:EDT
DTSTART:20260308T070000
END:DAYLIGHT
BEGIN:STANDARD
TZOFFSETFROM:-0400
TZOFFSETTO:-0500
TZNAME:EST
DTSTART:20261101T060000
END:STANDARD
BEGIN:DAYLIGHT
TZOFFSETFROM:-0500
TZOFFSETTO:-0400
TZNAME:EDT
DTSTART:20270314T070000
END:DAYLIGHT
BEGIN:STANDARD
TZOFFSETFROM:-0400
TZOFFSETTO:-0500
TZNAME:EST
DTSTART:20271107T060000
END:STANDARD
END:VTIMEZONE
BEGIN:VEVENT
DTSTART;TZID=America/New_York:20250411T000000
DTEND;TZID=America/New_York:20260516T000000
DTSTAMP:20260423T164632
CREATED:20250331T135051Z
LAST-MODIFIED:20250331T135051Z
UID:106250-1744329600-1778889600@downtownny.com
SUMMARY:The Golden Thread: New Adventures in Textile Art by Christian Viveros-Fauné
DESCRIPTION:Fiber art exhibition with multiple artists.
URL:https://downtownny.com/event/the-golden-thread-new-adventures-in-textile-art-by-christian-viveros-faune/
CATEGORIES:Arts & Culture
END:VEVENT
BEGIN:VEVENT
DTSTART;TZID=America/New_York:20260307T000000
DTEND;TZID=America/New_York:20260328T000000
DTSTAMP:20260423T164632
CREATED:20260227T195818Z
LAST-MODIFIED:20260227T195818Z
UID:120793-1772841600-1774656000@downtownny.com
SUMMARY:Trash
DESCRIPTION:Tim and Jake are Deaf roommates sharing an apartment in the city—but not much else. They’re polar opposites\, each with very different views on what it means to be Deaf in a hearing world. When it comes to taking out the trash\, they spiral into a comic and insightful examination of their personal garbage and their perceptions of each other’s lives. Performed almost exclusively in ASL (American Sign Language)\, Trash employs surprising theatrical devices that allow all audiences to understand the play (and each other) in profoundly new ways.
URL:https://downtownny.com/event/trash/
CATEGORIES:Arts & Culture
END:VEVENT
BEGIN:VEVENT
DTSTART;TZID=America/New_York:20260316T000000
DTEND;TZID=America/New_York:20260327T000000
DTSTAMP:20260423T164632
CREATED:20260227T200549Z
LAST-MODIFIED:20260227T200549Z
UID:120832-1773619200-1774569600@downtownny.com
SUMMARY:Checkmate at BFPL
DESCRIPTION:Strategy\, fun\, and friendly competition for players of all ages and skill levels.
URL:https://downtownny.com/event/checkmate-at-bfpl/
LOCATION:Winter Garden
CATEGORIES:Arts & Culture
END:VEVENT
BEGIN:VEVENT
DTSTART;VALUE=DATE:20260316
DTEND;VALUE=DATE:20260401
DTSTAMP:20260423T164632
CREATED:20260325T184419Z
LAST-MODIFIED:20260325T184419Z
UID:124174-1773619200-1775001599@downtownny.com
SUMMARY:Beast & Butterflies Downtown Celebrates International Women's Month with Special Menu
DESCRIPTION:To pay tribute to the women who inspire\, lead\, and shape the communities around us\, the restaurant is serving the following F&B specials:\nTwo entree salads\, the Ensalada de Queso de Cabra (mixed greens\, goat cheese\, hazelnuts\, caramelized onions\, honey vinaigrette) or the Ensalada de Tomate con Atún (Kumato tomatoes\, cucumber\, red onion\, albacore tuna)\nFrench Fries\nSpecialty cocktails include: an Olive Oil Martini\, a Gilda Martini\, or La Luminosa\, a fruit-forward gin cocktail created for the occasion\nAvailable throughout March at 55 Church St\, New York\, NY 10007.
URL:https://downtownny.com/event/beast-butterflies-downtown-celebrates-international-womens-month-with-special-menu/
END:VEVENT
BEGIN:VEVENT
DTSTART;TZID=America/New_York:20260323T180000
DTEND;TZID=America/New_York:20260323T180000
DTSTAMP:20260423T164632
CREATED:20260227T200624Z
LAST-MODIFIED:20260227T200641Z
UID:120855-1774288800-1774288800@downtownny.com
SUMMARY:Amanda Selwyn Dance Studio Open Rehearsal
DESCRIPTION:Intimate look at the creative process of Exposed\, a work in development. The open rehearsal will be followed by wine and cheese.
URL:https://downtownny.com/event/amanda-selwyn-dance-studio-open-rehearsal/
CATEGORIES:Arts & Culture
END:VEVENT
BEGIN:VEVENT
DTSTART;TZID=America/New_York:20260323T190000
DTEND;TZID=America/New_York:20260323T190000
DTSTAMP:20260423T164632
CREATED:20260227T200641Z
LAST-MODIFIED:20260227T200641Z
UID:120857-1774292400-1774292400@downtownny.com
SUMMARY:Infinite Jest Fest
DESCRIPTION:Seventh meeting of the Infinite Jest Monthly Read-Along Bash group. Read pages 602-716 (plus relevant endnotes) for this month’s gathering.
URL:https://downtownny.com/event/infinite-jest-fest-5/
CATEGORIES:Arts & Culture
END:VEVENT
BEGIN:VEVENT
DTSTART;TZID=America/New_York:20260324T130000
DTEND;TZID=America/New_York:20260324T140000
DTSTAMP:20260423T164632
CREATED:20260227T200641Z
LAST-MODIFIED:20260227T200641Z
UID:120858-1774357200-1774360800@downtownny.com
SUMMARY:BPC Book Club
DESCRIPTION:Join fellow readers for lively discussion and thoughtful socializing. Today’s discussion will be about Colored Television by Danzy Senna.
URL:https://downtownny.com/event/bpc-book-club-20/
CATEGORIES:Community
END:VEVENT
BEGIN:VEVENT
DTSTART;TZID=America/New_York:20260324T140000
DTEND;TZID=America/New_York:20260324T160000
DTSTAMP:20260423T164632
CREATED:20260227T200642Z
LAST-MODIFIED:20260227T200642Z
UID:120859-1774360800-1774368000@downtownny.com
SUMMARY:Mah Jongg & More
DESCRIPTION:Join a dedicated group of adult American Mah Jongg enthusiasts for friendly and informal games\, or try your hand at other card and board games. Make friends and catch up with neighbors. Sets\, cards\, and games provided\, or bring your own.
URL:https://downtownny.com/event/mah-jongg-more-131/
CATEGORIES:Community
END:VEVENT
BEGIN:VEVENT
DTSTART;TZID=America/New_York:20260324T180000
DTEND;TZID=America/New_York:20260324T180000
DTSTAMP:20260423T164632
CREATED:20260227T200642Z
LAST-MODIFIED:20260227T200642Z
UID:120860-1774375200-1774375200@downtownny.com
SUMMARY:Two Kinds of Stranger
DESCRIPTION:Book reading and signing by author Steve Cavanagh.
URL:https://downtownny.com/event/two-kinds-of-stranger/
CATEGORIES:Arts & Culture
END:VEVENT
BEGIN:VEVENT
DTSTART;TZID=America/New_York:20260324T183000
DTEND;TZID=America/New_York:20260324T194500
DTSTAMP:20260423T164632
CREATED:20260227T200659Z
LAST-MODIFIED:20260227T200659Z
UID:120861-1774377000-1774381500@downtownny.com
SUMMARY:Herstorical Happy Hour: Star Spangled Sipper - Liberty 250® Program
DESCRIPTION:Interactive craft cocktail class hosted by pop historian\, comedian and certified mixologist\, Jacey Powers. This unique event combines one-part humor\, one-part history and shakes them up for a perfectly blended celebration of fascinating women in history\, worthy of raising a glass to.  As we approach America’s 250th birthday\, we’ll look at the story behind our nation’s most enduring symbol: the United States Flag. We’ve all heard the story of Betsy Ross\, but is it fact or an American fable? Together we’ll untangle the tale and shake up a historic cocktail inspired by the recipes and drinking culture of colonial America. This high-energy happy hour will illuminate the way we tell women’s stories with every guest learning a little and laughing a lot.
URL:https://downtownny.com/event/herstorical-happy-hour-star-spangled-sipper-liberty-250-program/
CATEGORIES:Arts & Culture
END:VEVENT
BEGIN:VEVENT
DTSTART;TZID=America/New_York:20260325T130000
DTEND;TZID=America/New_York:20260325T130000
DTSTAMP:20260423T164632
CREATED:20260227T200659Z
LAST-MODIFIED:20260227T200659Z
UID:120862-1774443600-1774443600@downtownny.com
SUMMARY:Downtown Beats Chorus
DESCRIPTION:Directed by the Church Street School of Music\, the Downtown Beats adult chorus is open to all who love to sing. Learn contemporary and classic songs\, and perform at community events throughout the year.
URL:https://downtownny.com/event/downtown-beats-chorus-51/
CATEGORIES:Arts & Culture
END:VEVENT
BEGIN:VEVENT
DTSTART;TZID=America/New_York:20260325T140000
DTEND;TZID=America/New_York:20260325T160000
DTSTAMP:20260423T164632
CREATED:20260227T200659Z
LAST-MODIFIED:20260227T200659Z
UID:120863-1774447200-1774454400@downtownny.com
SUMMARY:Figure Drawing
DESCRIPTION:Challenge your artistic skills by drawing the human figure. Each week a model will strike short and long poses for participants to draw. Artists/ educators will offer constructive suggestions and critique. Materials provided\, and artists are encouraged to bring their own favorite media. Free program\, space is limited\, registration required.
URL:https://downtownny.com/event/figure-drawing-32/
CATEGORIES:Community
END:VEVENT
BEGIN:VEVENT
DTSTART;TZID=America/New_York:20260325T173000
DTEND;TZID=America/New_York:20260325T173000
DTSTAMP:20260423T164632
CREATED:20260227T200700Z
LAST-MODIFIED:20260227T200700Z
UID:120864-1774459800-1774459800@downtownny.com
SUMMARY:Eid al-Fitr Celebration
DESCRIPTION:Festivities hosted by the City Council.
URL:https://downtownny.com/event/eid-al-fitr-celebration/
CATEGORIES:Arts & Culture
END:VEVENT
BEGIN:VEVENT
DTSTART;TZID=America/New_York:20260325T190000
DTEND;TZID=America/New_York:20260326T000000
DTSTAMP:20260423T164632
CREATED:20260227T200700Z
LAST-MODIFIED:20260227T200700Z
UID:120865-1774465200-1774483200@downtownny.com
SUMMARY:“All in the Telling – a somewhat true story” with Saul Rubinek
DESCRIPTION:Saul Rubinek’s novel All in The Telling – a somewhat true story\, weaves together a true story of miraculous survival\, a murder mystery\, an operatic family drama\, and undying romance. When Saul falls in love with a non-Jewish woman\, he discovers his immigrant\, Holocaust survivor parents are not as “cool with it” as he said they’d be. Their reaction is biblical. Desperate to fix his relationship with his parents\, he lies and tells them he’s writing a book about their story of love and survival. In chronicling their lives\, Saul discovers their extraordinary loyalty and bravery – but also the lies\, secrets\, and deceptions buried in his family’s past. Rubinek will perform excerpts of his book. The reading includes clips from his documentary film So Many Miracles\, in which Saul took his parents back to Poland in 1986 to have a reunion with the Polish farmers that had hidden them for two and a half years during the Holocaust.
URL:https://downtownny.com/event/all-in-the-telling-a-somewhat-true-story-with-saul-rubinek/
CATEGORIES:Arts & Culture
END:VEVENT
BEGIN:VEVENT
DTSTART;TZID=America/New_York:20260326T110000
DTEND;TZID=America/New_York:20260326T110000
DTSTAMP:20260423T164632
CREATED:20260227T200718Z
LAST-MODIFIED:20260227T200718Z
UID:120866-1774522800-1774522800@downtownny.com
SUMMARY:Chess Simulation with Grandmaster
DESCRIPTION:Simulated chess game with world chess champion Grandmaster Maxim Dlugy. Repeated at 12:30pm
URL:https://downtownny.com/event/chess-simulation-with-grandmaster/
LOCATION:Winter Garden
CATEGORIES:Arts & Culture
END:VEVENT
BEGIN:VEVENT
DTSTART;TZID=America/New_York:20260326T130000
DTEND;TZID=America/New_York:20260326T150000
DTSTAMP:20260423T164632
CREATED:20260227T200718Z
LAST-MODIFIED:20260227T200718Z
UID:120867-1774530000-1774537200@downtownny.com
SUMMARY:Fiber Art Crafts Studio
DESCRIPTION:Join this group of fiber art crafters for a fun afternoon of creativity and camaraderie. Bring your projects\, which can include—but are not limited to—knitting\, crocheting\, embroidery and small-loom weaving.
URL:https://downtownny.com/event/fiber-art-crafts-studio-40/
CATEGORIES:Community
END:VEVENT
BEGIN:VEVENT
DTSTART;TZID=America/New_York:20260326T180000
DTEND;TZID=America/New_York:20260326T180000
DTSTAMP:20260423T164632
CREATED:20260227T200718Z
LAST-MODIFIED:20260227T200718Z
UID:120868-1774548000-1774548000@downtownny.com
SUMMARY:The Case of the Murdered Muckraker
DESCRIPTION:Book reading and signing by author Rob Osler.
URL:https://downtownny.com/event/the-case-of-the-murdered-muckraker/
CATEGORIES:Arts & Culture
END:VEVENT
BEGIN:VEVENT
DTSTART;TZID=America/New_York:20260326T190000
DTEND;TZID=America/New_York:20260326T210000
DTSTAMP:20260423T164632
CREATED:20260227T200719Z
LAST-MODIFIED:20260227T200719Z
UID:120869-1774551600-1774558800@downtownny.com
SUMMARY:Remembering Selma Meerbaum-Eisinger
DESCRIPTION:Edward Hirsch\, Carlie Hoffman\, and Yerra Sugarman will present a lecture on Selma Meerbaum-Eisinger (1924–1942)\, a poet\, translator\, and librettist from Czernowitz (present-day Chernivtsi\, Ukraine).
URL:https://downtownny.com/event/remembering-selma-meerbaum-eisinger/
CATEGORIES:Arts & Culture
END:VEVENT
BEGIN:VEVENT
DTSTART;TZID=America/New_York:20260327T170000
DTEND;TZID=America/New_York:20260327T190000
DTSTAMP:20260423T164632
CREATED:20260227T200719Z
LAST-MODIFIED:20260227T200719Z
UID:120870-1774630800-1774638000@downtownny.com
SUMMARY:Mah Jongg & More
DESCRIPTION:Join a dedicated group of adult American Mah Jongg enthusiasts for friendly and informal games\, or try your hand at other card and board games. Make friends and catch up with neighbors. Sets\, cards\, and games provided\, or bring your own.
URL:https://downtownny.com/event/mah-jongg-more-132/
CATEGORIES:Community
END:VEVENT
BEGIN:VEVENT
DTSTART;TZID=America/New_York:20260328T100000
DTEND;TZID=America/New_York:20260328T120000
DTSTAMP:20260423T164632
CREATED:20260227T200723Z
LAST-MODIFIED:20260227T200723Z
UID:120871-1774692000-1774699200@downtownny.com
SUMMARY:Stewardship Saturday: Garden & Clean Up
DESCRIPTION:Pick up litter and tend to pollinator-friendly gardens. Tools and materials provided. No experience needed. All ages and abilities welcome.
URL:https://downtownny.com/event/stewardship-saturday-garden-clean-up-3/
CATEGORIES:Community
END:VEVENT
BEGIN:VEVENT
DTSTART;TZID=America/New_York:20260328T103000
DTEND;TZID=America/New_York:20260328T103000
DTSTAMP:20260423T164632
CREATED:20260227T200723Z
LAST-MODIFIED:20260227T200723Z
UID:120872-1774693800-1774693800@downtownny.com
SUMMARY:A Grand Idea: How William J. Wilgus Created Grand Central Terminal
DESCRIPTION:Interactive family program inspired by A Grand Idea: How William J. Wilgus Created Grand Central Terminal by Megan Hoyt. Through a read-aloud\, children will discover how civil engineer William J. Wilgus redesigned New York’s 19th-century Grand Central Station into the great terminal we know today. Kids will explore big ideas like underground railways with buildings above – concepts explained in our new exhibition\, The Invention of Park Avenue. Kids will then create their own train routes\, platforms\, and towers using arts and crafts materials.
URL:https://downtownny.com/event/a-grand-idea-how-william-j-wilgus-created-grand-central-terminal/
CATEGORIES:Arts & Culture
END:VEVENT
BEGIN:VEVENT
DTSTART;TZID=America/New_York:20260328T143000
DTEND;TZID=America/New_York:20260328T143000
DTSTAMP:20260423T164632
CREATED:20260227T200724Z
LAST-MODIFIED:20260227T200724Z
UID:120873-1774708200-1774708200@downtownny.com
SUMMARY:Women Who Wowed
DESCRIPTION:From pioneering professionals to groundbreaking activists and maritime leaders\, this walking tour brings to light the stories of women who fought against gender and racial discrimination to leave their mark on history.
URL:https://downtownny.com/event/women-who-wowed-9/
CATEGORIES:Tours
END:VEVENT
BEGIN:VEVENT
DTSTART;TZID=America/New_York:20260328T190000
DTEND;TZID=America/New_York:20260328T190000
DTSTAMP:20260423T164632
CREATED:20260227T200724Z
LAST-MODIFIED:20260227T200724Z
UID:120874-1774724400-1774724400@downtownny.com
SUMMARY:Lambkin
DESCRIPTION:Musical performance.
URL:https://downtownny.com/event/lambkin/
CATEGORIES:Arts & Culture
END:VEVENT
BEGIN:VEVENT
DTSTART;TZID=America/New_York:20260329T120000
DTEND;TZID=America/New_York:20260329T183000
DTSTAMP:20260423T164632
CREATED:20260227T200724Z
LAST-MODIFIED:20260227T200724Z
UID:120875-1774785600-1774809000@downtownny.com
SUMMARY:Spring Equinox Festival: A Celebration of Persian Heritage
DESCRIPTION:A Nowruz celebration honoring Persian culture and the Spring Equinox\, featuring Persian music\, food\, and activities.
URL:https://downtownny.com/event/spring-equinox-festival-a-celebration-of-persian-heritage/
CATEGORIES:Arts & Culture
END:VEVENT
BEGIN:VEVENT
DTSTART;TZID=America/New_York:20260329T150000
DTEND;TZID=America/New_York:20260329T150000
DTSTAMP:20260423T164632
CREATED:20260227T200736Z
LAST-MODIFIED:20260227T200736Z
UID:120876-1774796400-1774796400@downtownny.com
SUMMARY:Gold Metals and Grit: Secrets and Lies
DESCRIPTION:Keep the Winter Olympics spirit high in this afternoon of New York City’s most competitive secrets. Join the Seaport Museum and Double or Nothing Media to explore the grit and glory of the city’s athletic past\, from high-stakes Winter traditions on the harbor to the local legends of the early Games.
URL:https://downtownny.com/event/gold-metals-and-grit-secrets-and-lies/
CATEGORIES:Arts & Culture
END:VEVENT
BEGIN:VEVENT
DTSTART;TZID=America/New_York:20260331T140000
DTEND;TZID=America/New_York:20260331T160000
DTSTAMP:20260423T164632
CREATED:20260227T200736Z
LAST-MODIFIED:20260227T200736Z
UID:120877-1774965600-1774972800@downtownny.com
SUMMARY:Mah Jongg & More
DESCRIPTION:Join a dedicated group of adult American Mah Jongg enthusiasts for friendly and informal games\, or try your hand at other card and board games. Make friends and catch up with neighbors. Sets\, cards\, and games provided\, or bring your own.
URL:https://downtownny.com/event/mah-jongg-more-133/
CATEGORIES:Community
END:VEVENT
BEGIN:VEVENT
DTSTART;TZID=America/New_York:20260401T100000
DTEND;TZID=America/New_York:20260401T120000
DTSTAMP:20260423T164632
CREATED:20260331T172333Z
LAST-MODIFIED:20260331T172333Z
UID:136367-1775037600-1775044800@downtownny.com
SUMMARY:No-Press Printmaking
DESCRIPTION:Explore fun and simple printmaking techniques- such as screen printing\, monographs\, and collagraphs- with the guidance of an artist/ educator. All materials provided. All skill levels welcome. Registration required.
URL:https://downtownny.com/event/no-press-printmaking/
CATEGORIES:Community
END:VEVENT
BEGIN:VEVENT
DTSTART;TZID=America/New_York:20260401T130000
DTEND;TZID=America/New_York:20260401T130000
DTSTAMP:20260423T164632
CREATED:20260331T172334Z
LAST-MODIFIED:20260331T172334Z
UID:136368-1775048400-1775048400@downtownny.com
SUMMARY:Downtown Beats Chorus
DESCRIPTION:Directed by Church Street School of Music\, the Downtown Beats adult chorus is open to all who love to sing! Learn contemporary and classic songs and perform at community events throughout the year.
URL:https://downtownny.com/event/downtown-beats-chorus-52/
CATEGORIES:Arts & Culture
END:VEVENT
BEGIN:VEVENT
DTSTART;TZID=America/New_York:20260401T190000
DTEND;TZID=America/New_York:20260401T190000
DTSTAMP:20260423T164632
CREATED:20260331T172334Z
LAST-MODIFIED:20260331T172334Z
UID:136369-1775070000-1775070000@downtownny.com
SUMMARY:Be Easy
DESCRIPTION:Adrian Matejka presents Be Easy\, in conversation with Terrance Hayes.
URL:https://downtownny.com/event/be-easy/
CATEGORIES:Arts & Culture
END:VEVENT
BEGIN:VEVENT
DTSTART;TZID=America/New_York:20260401T190000
DTEND;TZID=America/New_York:20260401T210000
DTSTAMP:20260423T164632
CREATED:20260331T172335Z
LAST-MODIFIED:20260331T172335Z
UID:136370-1775070000-1775077200@downtownny.com
SUMMARY:Passwords: Ricardo Alberto Maldonado on César Vallejo
DESCRIPTION:Poet and translator Ricardo Alberto Maldonado focuses on the poet César Vallejo’s maddeningly complex body of work\, emphasizing its religious attention to suffering and grief—“Some blows in life\, they’re so heavy . . . I don’t know. / Blows as if dealt by God’s own wrath”—alongside its defiant humor\, mystery\, and profound humanism.
URL:https://downtownny.com/event/passwords-ricardo-alberto-maldonado-on-cesar-vallejo/
CATEGORIES:Arts & Culture
END:VEVENT
END:VCALENDAR