BEGIN:VCALENDAR
VERSION:2.0
PRODID:-//Downtown Alliance - ECPv6.15.20//NONSGML v1.0//EN
CALSCALE:GREGORIAN
METHOD:PUBLISH
X-ORIGINAL-URL:https://downtownny.com
X-WR-CALDESC:Events for Downtown Alliance
REFRESH-INTERVAL;VALUE=DURATION:PT1H
X-Robots-Tag:noindex
X-PUBLISHED-TTL:PT1H
BEGIN:VTIMEZONE
TZID:America/New_York
BEGIN:DAYLIGHT
TZOFFSETFROM:-0500
TZOFFSETTO:-0400
TZNAME:EDT
DTSTART:20230312T070000
END:DAYLIGHT
BEGIN:STANDARD
TZOFFSETFROM:-0400
TZOFFSETTO:-0500
TZNAME:EST
DTSTART:20231105T060000
END:STANDARD
BEGIN:DAYLIGHT
TZOFFSETFROM:-0500
TZOFFSETTO:-0400
TZNAME:EDT
DTSTART:20240310T070000
END:DAYLIGHT
BEGIN:STANDARD
TZOFFSETFROM:-0400
TZOFFSETTO:-0500
TZNAME:EST
DTSTART:20241103T060000
END:STANDARD
BEGIN:DAYLIGHT
TZOFFSETFROM:-0500
TZOFFSETTO:-0400
TZNAME:EDT
DTSTART:20250309T070000
END:DAYLIGHT
BEGIN:STANDARD
TZOFFSETFROM:-0400
TZOFFSETTO:-0500
TZNAME:EST
DTSTART:20251102T060000
END:STANDARD
BEGIN:DAYLIGHT
TZOFFSETFROM:-0500
TZOFFSETTO:-0400
TZNAME:EDT
DTSTART:20260308T070000
END:DAYLIGHT
BEGIN:STANDARD
TZOFFSETFROM:-0400
TZOFFSETTO:-0500
TZNAME:EST
DTSTART:20261101T060000
END:STANDARD
END:VTIMEZONE
BEGIN:VEVENT
DTSTART;TZID=America/New_York:20250723T190000
DTEND;TZID=America/New_York:20250723T190000
DTSTAMP:20260423T074842
CREATED:20250630T185938Z
LAST-MODIFIED:20250630T185938Z
UID:110363-1753297200-1753297200@downtownny.com
SUMMARY:Trombone Shorty & Orleans Avenue
DESCRIPTION:Might Not Make It Home Tour\, with special guests JJ Grey & Mofro.
URL:https://downtownny.com/event/trombone-shorty-orleans-avenue/
CATEGORIES:Arts & Culture
END:VEVENT
BEGIN:VEVENT
DTSTART;TZID=America/New_York:20250724T130000
DTEND;TZID=America/New_York:20250724T150000
DTSTAMP:20260423T074842
CREATED:20250630T185946Z
LAST-MODIFIED:20250630T185946Z
UID:110364-1753362000-1753369200@downtownny.com
SUMMARY:Fiber Art Crafts Studio
DESCRIPTION:Join this group of fiber art crafters for a fun afternoon of creativity and camaraderie. Bring your projects\, which can include—but are not limited to—knitting\, crocheting\, embroidery and small-loom weaving.
URL:https://downtownny.com/event/fiber-art-crafts-studio-16/
CATEGORIES:Community
END:VEVENT
BEGIN:VEVENT
DTSTART;TZID=America/New_York:20250724T173000
DTEND;TZID=America/New_York:20250724T173000
DTSTAMP:20260423T074842
CREATED:20250630T185947Z
LAST-MODIFIED:20250630T185947Z
UID:110365-1753378200-1753378200@downtownny.com
SUMMARY:Barre Fitness
DESCRIPTION:Join Complete Body for a low-impact joint-friendly exercise and targeted muscle toning achieved through small\, controlled movements that focus on isometric holds and pulses\, suitable for various fitness levels.
URL:https://downtownny.com/event/barre-fitness/
CATEGORIES:Community
END:VEVENT
BEGIN:VEVENT
DTSTART;TZID=America/New_York:20250724T173000
DTEND;TZID=America/New_York:20250724T173000
DTSTAMP:20260423T074842
CREATED:20250630T185947Z
LAST-MODIFIED:20250630T185947Z
UID:110366-1753378200-1753378200@downtownny.com
SUMMARY:Zumba at Gotham Park
DESCRIPTION:Open to all—no experience needed\, just come ready to dance and have fun.
URL:https://downtownny.com/event/zumba-at-gotham-park-8/
CATEGORIES:Community
END:VEVENT
BEGIN:VEVENT
DTSTART;TZID=America/New_York:20250724T190000
DTEND;TZID=America/New_York:20250724T190000
DTSTAMP:20260423T074842
CREATED:20250630T185947Z
LAST-MODIFIED:20250630T185947Z
UID:110367-1753383600-1753383600@downtownny.com
SUMMARY:River & Blues: Afro Latin Jazz Alliance
DESCRIPTION:The award-winning Afro Latin Jazz Orchestra led by Arturo O’Farrill\, has enamored international audiences with its dynamic performances featuring the music of jazz legends and new compositions from the Latin music scene.
URL:https://downtownny.com/event/river-blues-afro-latin-jazz-alliance/
LOCATION:Rockefeller Park
CATEGORIES:Arts & Culture
END:VEVENT
BEGIN:VEVENT
DTSTART;TZID=America/New_York:20250724T190000
DTEND;TZID=America/New_York:20250724T190000
DTSTAMP:20260423T074842
CREATED:20250630T185948Z
LAST-MODIFIED:20250630T185948Z
UID:110368-1753383600-1753383600@downtownny.com
SUMMARY:Riley Green
DESCRIPTION:Damn Country Music Tour\, with special guests Ella Langley\, Vincent Mason\, and Wyatt McCubbin.
URL:https://downtownny.com/event/riley-green/
CATEGORIES:Arts & Culture
END:VEVENT
BEGIN:VEVENT
DTSTART;TZID=America/New_York:20240405T110000
DTEND;TZID=America/New_York:20240405T180000
DTSTAMP:20260423T074842
CREATED:20240417T185956Z
LAST-MODIFIED:20240417T185956Z
UID:95953-1712314800-1712340000@downtownny.com
SUMMARY:Smorgasburg
DESCRIPTION:New York City’s favorite outdoor food market\, Smorgasburg\, is back at the World Trade Center. Starting on April 5\, on Fridays through October\, come out to Fulton Street and enjoy a variety of eats and treats from over 20 local vendors.
URL:https://downtownny.com/event/smorgasburg/
ATTACH;FMTTYPE=image/jpeg:https://downtownny.com/wp-content/uploads/2024/03/Smorg_2.jpg
END:VEVENT
BEGIN:VEVENT
DTSTART;TZID=America/New_York:20250725T160000
DTEND;TZID=America/New_York:20250725T160000
DTSTAMP:20260423T074842
CREATED:20250630T190035Z
LAST-MODIFIED:20250630T190035Z
UID:110369-1753459200-1753459200@downtownny.com
SUMMARY:Battery Park City Tour: The North Neighborh
DESCRIPTION:The North Neighborhood tour of the Museum’s three thematic walking tours of Battery Park City\, on Thursday\, July 17 at 4pm\, will cover the north residential neighborhood\, which was developed in several phases\, beginning with Stuyvesant High School at the northeast edge and the esplanade and Rockefeller Park along the Hudson. A diagonal avenue lined with apartment buildings creates one face of the neighborhood\, while the inner courts of the large blocks are connected by the delightful Teardrop Park. Located two blocks from ground zero\, we will also explore the history and design of the Irish Hunger Memorial completed in 2001.
URL:https://downtownny.com/event/battery-park-city-tour-the-north-neighborh-2/
CATEGORIES:Tours
END:VEVENT
BEGIN:VEVENT
DTSTART;TZID=America/New_York:20250725T180000
DTEND;TZID=America/New_York:20250725T190000
DTSTAMP:20260423T074842
CREATED:20250630T190036Z
LAST-MODIFIED:20250630T190036Z
UID:110370-1753466400-1753470000@downtownny.com
SUMMARY:Stretch Sesh
DESCRIPTION:Take part in a full-body stretch routine designed to improve range of motion\, maintain flexibility\, promote better posture\, reduce joint pain\, and decrease the risk of injury.
URL:https://downtownny.com/event/stretch-sesh-7/
LOCATION:Rockefeller Park
CATEGORIES:Community
END:VEVENT
BEGIN:VEVENT
DTSTART;TZID=America/New_York:20250725T190000
DTEND;TZID=America/New_York:20250725T190000
DTSTAMP:20260423T074842
CREATED:20250630T190036Z
LAST-MODIFIED:20250630T190036Z
UID:110372-1753470000-1753470000@downtownny.com
SUMMARY:Drive-By Truckers & Deer Tick
DESCRIPTION:With special guests Thelma and The Sleaze.
URL:https://downtownny.com/event/drive-by-truckers-deer-tick/
CATEGORIES:Arts & Culture
END:VEVENT
BEGIN:VEVENT
DTSTART;TZID=America/New_York:20250725T190000
DTEND;TZID=America/New_York:20250725T203000
DTSTAMP:20260423T074842
CREATED:20250630T190036Z
LAST-MODIFIED:20250630T190036Z
UID:110371-1753470000-1753475400@downtownny.com
SUMMARY:Summer Nights
DESCRIPTION:The program will feature two poets and a musician — LaTasha N. Nevada Diggs\, Tongo Eisen-Martin\, and Sofia Wolfson — to explore and highlight the connections between poetry and music.
URL:https://downtownny.com/event/summer-nights-2/
LOCATION:Rockefeller Park
CATEGORIES:Arts & Culture
END:VEVENT
BEGIN:VEVENT
DTSTART;TZID=America/New_York:20250725T190000
DTEND;TZID=America/New_York:20250725T210000
DTSTAMP:20260423T074842
CREATED:20250630T190036Z
LAST-MODIFIED:20250630T190036Z
UID:110373-1753470000-1753477200@downtownny.com
SUMMARY:Summer Nights: LaTasha N. Nevada Diggs\, Tongo Eisen-Martin\, and 79.5
DESCRIPTION:Poetry meets music outdoors in Battery Park City. LaTasha N. Nevada Diggs offers a hybrid sound-poetry performance; San Francisco poet laureate and jazz-collaborator Tongo Eisen-Martin reads from Blood on the Fog; and the soulful and psychedelic band 79.5 performs from their discography. Poet and translator Urayoán Noel will be the MC for this event.
URL:https://downtownny.com/event/summer-nights-latasha-n-nevada-diggs-tongo-eisen-martin-and-79-5/
CATEGORIES:Arts & Culture
END:VEVENT
BEGIN:VEVENT
DTSTART;TZID=America/New_York:20250726T000000
DTEND;TZID=America/New_York:20250726T000000
DTSTAMP:20260423T074842
CREATED:20250630T190236Z
LAST-MODIFIED:20250630T190236Z
UID:110376-1753488000-1753488000@downtownny.com
SUMMARY:Free to be Festival
DESCRIPTION:A day of music\, art\, movement\, and sensory-friendly activities designed to honor and empower every kind of expression.
URL:https://downtownny.com/event/free-to-be-festival/
CATEGORIES:Community
END:VEVENT
BEGIN:VEVENT
DTSTART;TZID=America/New_York:20250726T100000
DTEND;TZID=America/New_York:20250726T120000
DTSTAMP:20260423T074842
CREATED:20250630T190237Z
LAST-MODIFIED:20250630T190237Z
UID:110377-1753524000-1753531200@downtownny.com
SUMMARY:Garden Stewardship at Gotham Park
DESCRIPTION:Pick up trash and tend to pollinator-friendly gardens. No experience is necessary; all ages and abilities are welcome!
URL:https://downtownny.com/event/garden-stewardship-at-gotham-park-7/
CATEGORIES:Community
END:VEVENT
BEGIN:VEVENT
DTSTART;TZID=America/New_York:20250726T103000
DTEND;TZID=America/New_York:20250726T103000
DTSTAMP:20260423T074842
CREATED:20250630T190237Z
LAST-MODIFIED:20250630T190237Z
UID:110378-1753525800-1753525800@downtownny.com
SUMMARY:Mapping the City
DESCRIPTION:Join us for a hands-on family program that introduces young cartographers to the art and language of maps! In this interactive family program\, children will learn how to read and understand the key elements of maps\, including symbols\, compass roses\, landmarks\, and scale\, while discovering how these tools help us make sense of the places we live. Then\, using what they’ve learned\, children will create their own personal maps inspired by their neighborhoods\, favorite places\, and NYC landmarks. They’ll invent symbols\, design routes\, and chart a meaningful space that reflects their everyday experience and connection to the city.
URL:https://downtownny.com/event/mapping-the-city/
CATEGORIES:Arts & Culture
END:VEVENT
BEGIN:VEVENT
DTSTART;TZID=America/New_York:20250726T110000
DTEND;TZID=America/New_York:20250726T150000
DTSTAMP:20260423T074842
CREATED:20250630T190237Z
LAST-MODIFIED:20250630T190237Z
UID:110379-1753527600-1753542000@downtownny.com
SUMMARY:Urban Farm Cyanotypes at Earth Matter
DESCRIPTION:This immer­sive half-day work­shop invites par­tic­i­pants to explore cyan­otype print­mak­ing through hands-on activ­i­ties at the Earth Mat­ter Urban Farm on Gov­er­nors Island. The day begins with a brief intro­duc­tion to the site\, fol­lowed by an overview of cyan­otype mate­ri­als and tech­niques. A farm leader will pro­vide guid­ance on for­ag­ing pro­to­cols and farm guide­lines\, ground­ing par­tic­i­pants in the eco­log­i­cal con­text of the space. The group will then learn how to coat water­col­or paper using cyan­otype chem­istry\, expose prints out­doors\, and for­age botan­i­cals direct­ly from the farm. Each par­tic­i­pant will have the oppor­tu­ni­ty to make and process unique cyan­otype prints using their for­aged mate­ri­als to take home\, using both pre-coat­ed paper and the paper they coat­ed dur­ing class. This class com­bines ele­ments of print­mak­ing\, pho­tog­ra­phy\, paint­ing\, and cre­ative botany\, offer­ing a unique oppor­tu­ni­ty to con­nect with nature\, com­mu­ni­ty\, and alter­na­tive pho­to­graph­ic processes.
URL:https://downtownny.com/event/urban-farm-cyanotypes-at-earth-matter/
LOCATION:Governors Island
CATEGORIES:Arts & Culture
END:VEVENT
BEGIN:VEVENT
DTSTART;TZID=America/New_York:20250726T120000
DTEND;TZID=America/New_York:20250726T130000
DTSTAMP:20260423T074842
CREATED:20250630T190238Z
LAST-MODIFIED:20250630T190238Z
UID:110380-1753531200-1753534800@downtownny.com
SUMMARY:Yoga
DESCRIPTION:All-levels class for skaters\, gardeners\, park enthusiasts—and anyone who wants to join. No experience needed.
URL:https://downtownny.com/event/yoga-2/
CATEGORIES:Community
END:VEVENT
BEGIN:VEVENT
DTSTART;TZID=America/New_York:20250726T120000
DTEND;TZID=America/New_York:20250727T150000
DTSTAMP:20260423T074842
CREATED:20250630T190437Z
LAST-MODIFIED:20250630T190437Z
UID:110381-1753531200-1753628400@downtownny.com
SUMMARY:Print Your Own Stationery
DESCRIPTION:Immersive 3-hour program where you can wor with Bowne’s designers to produce your own custom set of stationery—from start to finish. In this workshop\, you get to set type from the museum’s collection of historical fonts\, mix ink\, cut paper\, and print a bespoke edition of 35 notecards using a 19th century printing press. Great for all skill levels\, the workshop will engage you in every part of the printing process. Advanced registration is required. Anyone ages 12 and up is welcome\, and all supplies are included.
URL:https://downtownny.com/event/print-your-own-stationery-9/
CATEGORIES:Arts & Culture
END:VEVENT
BEGIN:VEVENT
DTSTART;TZID=America/New_York:20250726T130000
DTEND;TZID=America/New_York:20250726T133000
DTSTAMP:20260423T074842
CREATED:20250630T190438Z
LAST-MODIFIED:20250630T190438Z
UID:110382-1753534800-1753536600@downtownny.com
SUMMARY:Skate Mind
DESCRIPTION:Mental health trainings designed for the skate community. Slow down\, check in\, and build tools for resilience. Come early for yoga or stay after open skate. All are welcome.
URL:https://downtownny.com/event/skate-mind-6/
CATEGORIES:Community
END:VEVENT
BEGIN:VEVENT
DTSTART;TZID=America/New_York:20250726T130000
DTEND;TZID=America/New_York:20250726T150000
DTSTAMP:20260423T074842
CREATED:20250630T190438Z
LAST-MODIFIED:20250630T190438Z
UID:110383-1753534800-1753542000@downtownny.com
SUMMARY:Works on Water Workshop Series
DESCRIPTION:More&More Futures is a two hour structured play-session for imagining worlds you want to live in that are widely different from the present. Starting with a deck of playing cards\, players imagine\, brainstorm\, and role-play in small groups and as individuals. In this session\, we will especially focus on coastal futures. This event is geared toward participants ages 12 and up!
URL:https://downtownny.com/event/works-on-water-workshop-series-2/
CATEGORIES:Arts & Culture
END:VEVENT
BEGIN:VEVENT
DTSTART;TZID=America/New_York:20250726T190000
DTEND;TZID=America/New_York:20250726T190000
DTSTAMP:20260423T074842
CREATED:20250630T190438Z
LAST-MODIFIED:20250630T190438Z
UID:110384-1753556400-1753556400@downtownny.com
SUMMARY:Emma Jayne
DESCRIPTION:Free music performance.
URL:https://downtownny.com/event/emma-jayne/
CATEGORIES:Arts & Culture
END:VEVENT
BEGIN:VEVENT
DTSTART;TZID=America/New_York:20250727T123000
DTEND;TZID=America/New_York:20250727T143000
DTSTAMP:20260423T074843
CREATED:20250630T190438Z
LAST-MODIFIED:20250630T190438Z
UID:110385-1753619400-1753626600@downtownny.com
SUMMARY:Some Clowns
DESCRIPTION:Get ready for some seri­ous­ly sil­ly fun—Fizgig Stu­dio is bring­ing their hit show SOME CLOWNS to Car­reau Club on Gov­er­nors Island! Join them on Sun­day\, June 22 and Sun­day\, July 27 for an unfor­get­table after­noon of absurd antics\, phys­i­cal com­e­dy\, and pure chaot­ic joy fea­tur­ing Lon­er\, Jail­break\, Yoyo\, and more sur­prise guests.
URL:https://downtownny.com/event/some-clowns/
LOCATION:Governors Island
CATEGORIES:Arts & Culture
END:VEVENT
BEGIN:VEVENT
DTSTART;TZID=America/New_York:20250727T140000
DTEND;TZID=America/New_York:20250727T140000
DTSTAMP:20260423T074843
CREATED:20250630T191400Z
LAST-MODIFIED:20250630T191400Z
UID:110386-1753624800-1753624800@downtownny.com
SUMMARY:Sinister Secrets of the Seaport Walking Tour
DESCRIPTION:90-minute walking tour that will take you on a winding journey that unravels the darker past of the South Street Seaport Historic District and Lower Manhattan.
URL:https://downtownny.com/event/sinister-secrets-of-the-seaport-walking-tour-32/
CATEGORIES:Tours
END:VEVENT
BEGIN:VEVENT
DTSTART;TZID=America/New_York:20250728T190000
DTEND;TZID=America/New_York:20250728T190000
DTSTAMP:20260423T074843
CREATED:20250630T191400Z
LAST-MODIFIED:20250630T191400Z
UID:110387-1753729200-1753729200@downtownny.com
SUMMARY:Pink Martini featuring China Forbes
DESCRIPTION:Outdoor concert.
URL:https://downtownny.com/event/pink-martini-featuring-china-forbes/
CATEGORIES:Arts & Culture
END:VEVENT
BEGIN:VEVENT
DTSTART;TZID=America/New_York:20250729T140000
DTEND;TZID=America/New_York:20250729T160000
DTSTAMP:20260423T074843
CREATED:20250630T191401Z
LAST-MODIFIED:20250630T191401Z
UID:110388-1753797600-1753804800@downtownny.com
SUMMARY:Mah Jongg & More
DESCRIPTION:Join a dedicated group of adult American Mah Jongg enthusiasts for friendly and informal games\, or try your hand at other card and board games.
URL:https://downtownny.com/event/mah-jongg-more-93/
CATEGORIES:Community
END:VEVENT
BEGIN:VEVENT
DTSTART;TZID=America/New_York:20250729T153000
DTEND;TZID=America/New_York:20250729T170000
DTSTAMP:20260423T074843
CREATED:20250630T191401Z
LAST-MODIFIED:20250630T191401Z
UID:110389-1753803000-1753808400@downtownny.com
SUMMARY:Drop-In Chess
DESCRIPTION:Play the popular strategy game while getting pointers and advice from an expert. Chess improves concentration\, problem solving\, and strategic planning — plus it’s fun! For ages 5 and up.
URL:https://downtownny.com/event/drop-in-chess-103/
LOCATION:Rockefeller Park
CATEGORIES:Community
END:VEVENT
BEGIN:VEVENT
DTSTART;TZID=America/New_York:20250729T180000
DTEND;TZID=America/New_York:20250729T190000
DTSTAMP:20260423T074843
CREATED:20250630T191401Z
LAST-MODIFIED:20250630T191401Z
UID:110390-1753812000-1753815600@downtownny.com
SUMMARY:Stretch Sesh
DESCRIPTION:Take part in a full-body stretch routine designed to improve range of motion\, maintain flexibility\, promote better posture\, reduce joint pain\, and decrease the risk of injury.
URL:https://downtownny.com/event/stretch-sesh-8/
LOCATION:Rockefeller Park
CATEGORIES:Community
END:VEVENT
BEGIN:VEVENT
DTSTART;TZID=America/New_York:20250729T190000
DTEND;TZID=America/New_York:20250729T190000
DTSTAMP:20260423T074843
CREATED:20250630T191553Z
LAST-MODIFIED:20250630T191553Z
UID:110391-1753815600-1753815600@downtownny.com
SUMMARY:Taylor Mac: In Concert
DESCRIPTION:Wagner Park reopens with a performance by Pulitzer Prize-nominated\, genre-defying artist Taylor Mac.
URL:https://downtownny.com/event/taylor-mac-in-concert/
LOCATION:Wagner Park
CATEGORIES:Arts & Culture
END:VEVENT
BEGIN:VEVENT
DTSTART;TZID=America/New_York:20250729T190000
DTEND;TZID=America/New_York:20250729T190000
DTSTAMP:20260423T074843
CREATED:20250630T191553Z
LAST-MODIFIED:20250630T191553Z
UID:110392-1753815600-1753815600@downtownny.com
SUMMARY:An Oral History of Atlantis
DESCRIPTION:Ed Park presents his book of stories\, An Oral History of Atlantis\,\nin conversation with Rachel Aviv.
URL:https://downtownny.com/event/an-oral-history-of-atlantis/
CATEGORIES:Arts & Culture
END:VEVENT
BEGIN:VEVENT
DTSTART;TZID=America/New_York:20250730T100000
DTEND;TZID=America/New_York:20250730T120000
DTSTAMP:20260423T074843
CREATED:20250630T191554Z
LAST-MODIFIED:20250630T191554Z
UID:110393-1753869600-1753876800@downtownny.com
SUMMARY:Figure al Fresco
DESCRIPTION:This BPC park offers a unique setting to observe and sketch the human figure. Each week a model will strike short and long poses for participants to draw. An artist/ educator will offer constructive suggestions and critique. Drawing materials provided\, and artists are encouraged to bring their own favorite media.
URL:https://downtownny.com/event/figure-al-fresco-75/
CATEGORIES:Community
END:VEVENT
END:VCALENDAR