BEGIN:VCALENDAR
VERSION:2.0
PRODID:-//Downtown Alliance - ECPv6.15.20//NONSGML v1.0//EN
CALSCALE:GREGORIAN
METHOD:PUBLISH
X-ORIGINAL-URL:https://downtownny.com
X-WR-CALDESC:Events for Downtown Alliance
REFRESH-INTERVAL;VALUE=DURATION:PT1H
X-Robots-Tag:noindex
X-PUBLISHED-TTL:PT1H
BEGIN:VTIMEZONE
TZID:America/New_York
BEGIN:DAYLIGHT
TZOFFSETFROM:-0500
TZOFFSETTO:-0400
TZNAME:EDT
DTSTART:20220313T070000
END:DAYLIGHT
BEGIN:STANDARD
TZOFFSETFROM:-0400
TZOFFSETTO:-0500
TZNAME:EST
DTSTART:20221106T060000
END:STANDARD
BEGIN:DAYLIGHT
TZOFFSETFROM:-0500
TZOFFSETTO:-0400
TZNAME:EDT
DTSTART:20230312T070000
END:DAYLIGHT
BEGIN:STANDARD
TZOFFSETFROM:-0400
TZOFFSETTO:-0500
TZNAME:EST
DTSTART:20231105T060000
END:STANDARD
BEGIN:DAYLIGHT
TZOFFSETFROM:-0500
TZOFFSETTO:-0400
TZNAME:EDT
DTSTART:20240310T070000
END:DAYLIGHT
BEGIN:STANDARD
TZOFFSETFROM:-0400
TZOFFSETTO:-0500
TZNAME:EST
DTSTART:20241103T060000
END:STANDARD
BEGIN:DAYLIGHT
TZOFFSETFROM:-0500
TZOFFSETTO:-0400
TZNAME:EDT
DTSTART:20250309T070000
END:DAYLIGHT
BEGIN:STANDARD
TZOFFSETFROM:-0400
TZOFFSETTO:-0500
TZNAME:EST
DTSTART:20251102T060000
END:STANDARD
END:VTIMEZONE
BEGIN:VEVENT
DTSTART;TZID=America/New_York:20240427T120000
DTEND;TZID=America/New_York:20240427T120000
DTSTAMP:20260421T171230
CREATED:20240401T151803Z
LAST-MODIFIED:20240401T151803Z
UID:96227-1714219200-1714219200@downtownny.com
SUMMARY:Hamilton and Washington Secrets of the Past Walking tour
DESCRIPTION:Experience American history on the streets where it happened\, and through the lives of our first commander-in-chief and president\, George Washington\, and destitute immigrant turned Secretary of the Treasury\, Alexander Hamilton–two men who were truly indispensable in guiding and shaping the destiny of the United States.
URL:https://downtownny.com/event/hamilton-and-washington-secrets-of-the-past-walking-tour-13/
CATEGORIES:Tours
END:VEVENT
BEGIN:VEVENT
DTSTART;TZID=America/New_York:20240427T143000
DTEND;TZID=America/New_York:20240427T143000
DTSTAMP:20260421T171230
CREATED:20240401T151805Z
LAST-MODIFIED:20240401T151805Z
UID:96228-1714228200-1714228200@downtownny.com
SUMMARY:Hopalong Andrew
DESCRIPTION:Annabelle Kline is a music curator and founder of the Catch the entertainer New York Magazine calls “The countrified king of our children’s entertainment circuit.” Hopalong Andrew’s high-spirited concerts incorporate cowboy songs celebrating city life\, spinning lassos\, and humorous hijinx.  “That Good Sh*t”. Whether she’s interviewing artists\, producing live shows\, or DJing\, she focuses on highlighting emerging sounds and curating the perfect soundtrack to life.
URL:https://downtownny.com/event/hopalong-andrew/
CATEGORIES:Arts & Culture
END:VEVENT
BEGIN:VEVENT
DTSTART;TZID=America/New_York:20240427T143000
DTEND;TZID=America/New_York:20240427T143000
DTSTAMP:20260421T171230
CREATED:20240401T151807Z
LAST-MODIFIED:20240401T151807Z
UID:96229-1714228200-1714228200@downtownny.com
SUMMARY:Sinister Secrets of the Seaport Walking Tour
DESCRIPTION:Winding journey that unravels the darker past of the South Street Seaport Historic District and Lower Manhattan. This entertaining tour tells the scandalous\, dubious\, and sinister tales lurking in the cobblestone streets\, historic buildings\, and waterfront. Throughout the tour\, your guide will share historical stories ripped from the headlines of newspapers and publications from the 1790s to the 1990s that provide a new perspective on the history of the area that helped to make New York a global metropolis. You’ll also be able to test your “Ear for Crime” in an interactive game throughout the walk\, which even has a prize for the winner at the end of the tour. Meet your tour guide at Ryan Maguire’s Bar & Restaurant\, at 28 Cliff Street\, where one happy hour drink or soft drink is included in your registration for the tour. Come up to 30 minutes early and be treated to a few scandalous stories inspired by the historical images on view at the bar. Registration is required. Tours are rain or shine. Content is appropriate for fans of true crime stories\, those who are looking for unique New York experience\, and history-buffs aged 13 and up. Please note that the tour requires walking approximately one mile and some stops on this tour require walking up and down small flights of stairs. Lower Manhattan can be chilly and windy this time of year\, and this tour takes place exclusively outdoors.
URL:https://downtownny.com/event/sinister-secrets-of-the-seaport-walking-tour-15/
CATEGORIES:Tours
END:VEVENT
BEGIN:VEVENT
DTSTART;TZID=America/New_York:20240427T190000
DTEND;TZID=America/New_York:20240427T190000
DTSTAMP:20260421T171230
CREATED:20240401T151958Z
LAST-MODIFIED:20240401T151958Z
UID:96230-1714244400-1714244400@downtownny.com
SUMMARY:LMNE
DESCRIPTION:Raised in Senegal\, France\, and the United States\, LMNE is a singer.
URL:https://downtownny.com/event/lmne/
CATEGORIES:Arts & Culture
END:VEVENT
BEGIN:VEVENT
DTSTART;TZID=America/New_York:20240428T080000
DTEND;TZID=America/New_York:20240428T080000
DTSTAMP:20260421T171230
CREATED:20240401T152000Z
LAST-MODIFIED:20240401T152000Z
UID:96231-1714291200-1714291200@downtownny.com
SUMMARY:9/11 Memorial & Museum 5K
DESCRIPTION:Walk or run a path inspired by the one first responders took on 9/11 and in its aftermath. Revenue supports the Museum & Memorial mission
URL:https://downtownny.com/event/9-11-memorial-museum-5k/
CATEGORIES:Arts & Culture
END:VEVENT
BEGIN:VEVENT
DTSTART;TZID=America/New_York:20240429T130000
DTEND;TZID=America/New_York:20240429T130000
DTSTAMP:20260421T171230
CREATED:20240401T152002Z
LAST-MODIFIED:20240401T152002Z
UID:96232-1714395600-1714395600@downtownny.com
SUMMARY:Jazz at One: JAZZ HOUSE All-Stars
DESCRIPTION:Weekly jazz series.
URL:https://downtownny.com/event/jazz-at-one-jazz-house-all-stars/
CATEGORIES:Arts & Culture
END:VEVENT
BEGIN:VEVENT
DTSTART;TZID=America/New_York:20240429T183000
DTEND;TZID=America/New_York:20240429T183000
DTSTAMP:20260421T171230
CREATED:20240401T152004Z
LAST-MODIFIED:20240401T152004Z
UID:96233-1714415400-1714415400@downtownny.com
SUMMARY:Seaport Museum Book Club
DESCRIPTION:Join the South Street Seaport Museum for a recurring maritime-themed book club! You can find information on upcoming book selections below. Seaport Museum staff and special guests will stir up lively discussions informed by our shared love of literature\, history\, and preservation. Our literary selections will be announced one month in advance.
URL:https://downtownny.com/event/seaport-museum-book-club-9/
CATEGORIES:Arts & Culture
END:VEVENT
BEGIN:VEVENT
DTSTART;TZID=America/New_York:20240429T220000
DTEND;TZID=America/New_York:20240429T230000
DTSTAMP:20260421T171230
CREATED:20240417T191811Z
LAST-MODIFIED:20240417T191811Z
UID:96564-1714428000-1714431600@downtownny.com
SUMMARY:Christopher Morse - Live at Rockwood Music Hall
DESCRIPTION:Colorado singer/songwriter Christopher Morse writes catchy but heartfelt folk/pop with a hint of country flavor. Like Ed Sheeran in a blender with Ben Rector and Dan + Shay\, Christopher Morse’s crystal clear vocals and captivating live looping will have audiences hooked right away. \nCatch him on April 29th from 10-11pm at Rockwood Music Hall (196 Allen St)
URL:https://downtownny.com/event/christopher-morse-live-at-rockwood-music-hall/
END:VEVENT
BEGIN:VEVENT
DTSTART;TZID=America/New_York:20240430T130000
DTEND;TZID=America/New_York:20240430T130000
DTSTAMP:20260421T171230
CREATED:20240401T152006Z
LAST-MODIFIED:20240401T152006Z
UID:96234-1714482000-1714482000@downtownny.com
SUMMARY:Pipes at One: John Walthausen
DESCRIPTION:Weekly organ music.
URL:https://downtownny.com/event/pipes-at-one-john-walthausen/
CATEGORIES:Arts & Culture
END:VEVENT
BEGIN:VEVENT
DTSTART;TZID=America/New_York:20240430T143000
DTEND;TZID=America/New_York:20240430T160000
DTSTAMP:20260421T171230
CREATED:20240401T152157Z
LAST-MODIFIED:20240401T152157Z
UID:96235-1714487400-1714492800@downtownny.com
SUMMARY:Mah Jongg & More
DESCRIPTION:Join a dedicated group of Mah Jongg enthusiasts for friendly games\, or try your hand at other card and board games.
URL:https://downtownny.com/event/mah-jongg-more-36/
CATEGORIES:Community
END:VEVENT
BEGIN:VEVENT
DTSTART;TZID=America/New_York:20240430T151500
DTEND;TZID=America/New_York:20240430T164500
DTSTAMP:20260421T171230
CREATED:20240401T152158Z
LAST-MODIFIED:20240401T152158Z
UID:96236-1714490100-1714495500@downtownny.com
SUMMARY:Early Spring Children's Gardening
DESCRIPTION:Celebrate spring by digging and planting in the Children’s Garden. Learn about green practices and composting firsthand. For children who enjoy nature and like to get dirty! For ages 6-10. Registration required.
URL:https://downtownny.com/event/early-spring-childrens-gardening-5/
LOCATION:Rockefeller Park
CATEGORIES:Community
END:VEVENT
BEGIN:VEVENT
DTSTART;TZID=America/New_York:20240501T080000
DTEND;TZID=America/New_York:20240501T080000
DTSTAMP:20260421T171230
CREATED:20240430T193942Z
LAST-MODIFIED:20240430T193942Z
UID:96887-1714550400-1714550400@downtownny.com
SUMMARY:Guided Bird Walk with NYC Audubon
DESCRIPTION:Explore the diversity of migrating birds that find food and habitat in The Battery.  Participants are encouraged to bring their own binoculars.  RSVP is required
URL:https://downtownny.com/event/guided-bird-walk-with-nyc-audubon-5/
CATEGORIES:Tours
END:VEVENT
BEGIN:VEVENT
DTSTART;TZID=America/New_York:20240501T100000
DTEND;TZID=America/New_York:20240501T120000
DTSTAMP:20260421T171230
CREATED:20240430T193942Z
LAST-MODIFIED:20240430T193942Z
UID:96888-1714557600-1714564800@downtownny.com
SUMMARY:Figure Al Fresco
DESCRIPTION:Observe and sketch the human figure in a park setting. Each week a model will strike short and long poses for participants to draw. An artist/ educator will offer constructive suggestions and critique. Drawing materials provided; artists are encouraged to bring their own favorite media.
URL:https://downtownny.com/event/figure-al-fresco-50/
CATEGORIES:Arts & Culture
END:VEVENT
BEGIN:VEVENT
DTSTART;TZID=America/New_York:20240501T130000
DTEND;TZID=America/New_York:20240501T130000
DTSTAMP:20260421T171230
CREATED:20240430T193943Z
LAST-MODIFIED:20240430T193943Z
UID:96889-1714568400-1714568400@downtownny.com
SUMMARY:Bach at One: Monteverdi Vespers
DESCRIPTION:Selections from Monteverdi Vespers of 1610\, SV 206.
URL:https://downtownny.com/event/bach-at-one-monteverdi-vespers/
CATEGORIES:Arts & Culture
END:VEVENT
BEGIN:VEVENT
DTSTART;TZID=America/New_York:20240501T140000
DTEND;TZID=America/New_York:20240501T160000
DTSTAMP:20260421T171230
CREATED:20240430T193943Z
LAST-MODIFIED:20240430T193943Z
UID:96890-1714572000-1714579200@downtownny.com
SUMMARY:Elements of Nature Drawing
DESCRIPTION:Join our community of artists of all skill levels as we are inspired by our surroundings to create with drawing materials\, pastels and watercolors. Embolden your artwork amidst the flower-filled and seasonally evolving palette of BPC’s verdant gardens. An artist/ educator will provide ideas and instruction. Materials provided\, and artists are encouraged to bring their own favorite media.
URL:https://downtownny.com/event/elements-of-nature-drawing-71/
CATEGORIES:Arts & Culture
END:VEVENT
BEGIN:VEVENT
DTSTART;TZID=America/New_York:20240501T180000
DTEND;TZID=America/New_York:20240501T190000
DTSTAMP:20260421T171230
CREATED:20240430T193944Z
LAST-MODIFIED:20240430T193944Z
UID:96891-1714586400-1714590000@downtownny.com
SUMMARY:Sunset Yoga
DESCRIPTION:Namaste! Unwind from the day with outdoor yoga. Immerse yourself in this meditative practice- surrounded by the Hudson’s peaceful aura. Strengthen the body and cultivate awareness in a relaxed environment as your instructor guides you through alignments and poses. All levels are welcome. Bringing your own mat is encouraged\, as provided accessories are first come first serve.
URL:https://downtownny.com/event/sunset-yoga-63/
CATEGORIES:Community
END:VEVENT
BEGIN:VEVENT
DTSTART;TZID=America/New_York:20240501T190000
DTEND;TZID=America/New_York:20240501T190000
DTSTAMP:20260421T171230
CREATED:20240430T193948Z
LAST-MODIFIED:20240430T193948Z
UID:96892-1714590000-1714590000@downtownny.com
SUMMARY:An American Solider
DESCRIPTION:Conversation with Tony award and Grammy award winner David Henry Hwang; Chay Yew; and Carolyn Kuan about the powerful opera commemorating a soldier’s racially charged tragedy.
URL:https://downtownny.com/event/an-american-solider/
CATEGORIES:Arts & Culture
END:VEVENT
BEGIN:VEVENT
DTSTART;TZID=America/New_York:20240501T190000
DTEND;TZID=America/New_York:20240501T190000
DTSTAMP:20260421T171230
CREATED:20240430T193948Z
LAST-MODIFIED:20240430T193948Z
UID:96893-1714590000-1714590000@downtownny.com
SUMMARY:China Institute Calligraphy and Music Meetup
DESCRIPTION:Step into a world where tradition meets artistry\, and ancient culture resonates with the busy life in New York City! China Institute cordially invites you to this monthly program for a mesmerizing evening of traditional Chinese music and the enchanting world of calligraphy. Listen to the performance of the unique Chinese instruments\, and feel the charm of Chinese music combined with practicing Chinese calligraphy with a master calligrapher. Take the chance to interact with our calligrapher\, musicians and fellow cultural lovers too! No previous experience of calligraphy is required. Ink\, paper\, and brush will be provided onsite. Join like-minded friends to enjoy wine and tea\, practice calligraphy\, and listen to music. We look forward to a wonderful evening with you!
URL:https://downtownny.com/event/china-institute-calligraphy-and-music-meetup-6/
CATEGORIES:Arts & Culture
END:VEVENT
BEGIN:VEVENT
DTSTART;TZID=America/New_York:20240501T190000
DTEND;TZID=America/New_York:20240501T190000
DTSTAMP:20260421T171230
CREATED:20240430T193949Z
LAST-MODIFIED:20240430T193949Z
UID:96894-1714590000-1714590000@downtownny.com
SUMMARY:Comparing the Jewish and Islamic Legal Traditions
DESCRIPTION:Professor Rabea Benhalim will present on the comparative features of Jewish and Islamic law. She will discuss the historical relationship of Jewish and Islamic legal scholars\, the shared features of each religious legal system\, and the continued development of each within the modern\, American context.
URL:https://downtownny.com/event/comparing-the-jewish-and-islamic-legal-traditions/
LOCATION:Museum of Jewish Heritage
CATEGORIES:Arts & Culture
END:VEVENT
BEGIN:VEVENT
DTSTART;TZID=America/New_York:20240502T000000
DTEND;TZID=America/New_York:20240502T000000
DTSTAMP:20260421T171230
CREATED:20240430T193949Z
LAST-MODIFIED:20240430T193949Z
UID:96895-1714608000-1714608000@downtownny.com
SUMMARY:Fresh Prints
DESCRIPTION:Open house will feature a breadth of printing equipment that you will be invited to use. You’ll get to see how the designers at Bowne lock up limited edition designs that showcase some of the more eccentric parts from the Seaport Museum’s printing and graphic arts collection. Established in 1775\, the original Bowne & Co.\, Inc. was one of New York’s oldest printing firms. The Bowne & Co. that you can experience today at the Seaport Museum is an offshoot of the original and continues the age-old tradition of job (or small batch) printing. Advanced registration is encouraged for this free open house but walkups will be accommodated as possible. Anyone ages 12 and up is welcome.
URL:https://downtownny.com/event/fresh-prints-11/
CATEGORIES:Arts & Culture
END:VEVENT
BEGIN:VEVENT
DTSTART;TZID=America/New_York:20240502T130000
DTEND;TZID=America/New_York:20240502T130000
DTSTAMP:20260421T171230
CREATED:20240430T194049Z
LAST-MODIFIED:20240430T194049Z
UID:96898-1714654800-1714654800@downtownny.com
SUMMARY:Tour of The Battery Urban Farm
DESCRIPTION:Take a tour of The Battery Urban Farm to learn about how we grow produce and support local wildlife in the heart of downtown New York City.
URL:https://downtownny.com/event/tour-of-the-battery-urban-farm-37/
CATEGORIES:Tours
END:VEVENT
BEGIN:VEVENT
DTSTART;TZID=America/New_York:20240502T130000
DTEND;TZID=America/New_York:20240502T150000
DTSTAMP:20260421T171230
CREATED:20240430T193950Z
LAST-MODIFIED:20240430T193950Z
UID:96896-1714654800-1714662000@downtownny.com
SUMMARY:Craft Studio
DESCRIPTION:Our open ‘studio’ craft sessions are a great opportunity for seniors to be creative\, learn new skills\, and socialize with others through group activities and individual projects.
URL:https://downtownny.com/event/craft-studio/
CATEGORIES:Community
END:VEVENT
BEGIN:VEVENT
DTSTART;TZID=America/New_York:20240502T130000
DTEND;TZID=America/New_York:20240502T153000
DTSTAMP:20260421T171230
CREATED:20240430T194048Z
LAST-MODIFIED:20240430T194048Z
UID:96897-1714654800-1714663800@downtownny.com
SUMMARY:Pickleball Clinic
DESCRIPTION:Learn the basic rules\, strokes\, and strategy at this instructor-led clinic followed by open play. Equipment is provided or bring your own. All skill levels are welcome. Registration required\, please email registration@bpca.ny.gov .
URL:https://downtownny.com/event/pickleball-clinic-9/
CATEGORIES:Community
END:VEVENT
BEGIN:VEVENT
DTSTART;TZID=America/New_York:20230427T170000
DTEND;TZID=America/New_York:20230427T200000
DTSTAMP:20260421T171230
CREATED:20230508T164116Z
LAST-MODIFIED:20230508T164116Z
UID:51444-1682614800-1682625600@downtownny.com
SUMMARY:Upcoming Event: Hudson Eats Piano Bar at Brookfield Place
DESCRIPTION:Event Name: Hudson Eats Piano Bar\nEvent Date & Hours: Thursdays\, April 27th – May 25\, 5:00 – 8:00 PM\nLocation: Hudson Eats\, 2nd Level of Brookfield Place\nParticipation: FREE and Open to the Public – No Tickets Needed \nWe’re transforming Hudson Eats into a piano bar every Thursday! Gather your colleagues for an after-work drink or make us your evening destination with friends – or both! Sing along with acquaintances and strangers for this quintessential NY experience. \nFor more information and featured musicians: https://bfplny.com/pianobar/
URL:https://downtownny.com/event/upcoming-event-hudson-eats-piano-bar-at-brookfield-place/
LOCATION:Brookfield Place
ATTACH;FMTTYPE=image/jpeg:https://downtownny.com/wp-content/uploads/2023/05/HEPB.jpg
END:VEVENT
BEGIN:VEVENT
DTSTART;TZID=America/New_York:20240502T180000
DTEND;TZID=America/New_York:20240502T180000
DTSTAMP:20260421T171230
CREATED:20240430T194049Z
LAST-MODIFIED:20240430T194049Z
UID:96899-1714672800-1714672800@downtownny.com
SUMMARY:Al-Qaeda: A Threat Evolved?
DESCRIPTION:Almost three years after the withdrawal of U.S. forces from Afghanistan\, the current state of al-Qaeda looms large. According to a recent United Nations report\, key al-Qaeda allies have since consolidated power in Afghanistan\, providing the group with favorable conditions to evolve. Defense policy researcher and counterterrorism expert\, Sara Harmouch\, argues “dispelling myths of its decline\, al-Qaeda remains a resilient and evolving force\, continually refining its methods.” Together in conversation with Museum Director Clifford Chanin\, Harmouch discusses the relationship between al-Qaeda and the Taliban\, the current standing of al-Qaeda and its affiliates in the region\, and what this all means for the U.S. and the complex threat landscape it currently faces.
URL:https://downtownny.com/event/al-qaeda-a-threat-evolved/
CATEGORIES:Arts & Culture
END:VEVENT
BEGIN:VEVENT
DTSTART;TZID=America/New_York:20240502T190000
DTEND;TZID=America/New_York:20240502T190000
DTSTAMP:20260421T171230
CREATED:20240430T194050Z
LAST-MODIFIED:20240430T194050Z
UID:96900-1714676400-1714676400@downtownny.com
SUMMARY:Neighborhood Spotlight: The Downtown Beats
DESCRIPTION:“The Downtown Beats” is Church Street School for Music and Art’s free adult chorus in Battery Park City. For over ten years this chorus has welcomed all those that love to sing\, regardless of experience\, to join in the fun and community. Now around 20 members strong\, The Downtown Beats regularly perform in recitals and at local events. This May\, they are excited to partner with the Museum of Jewish Heritage to bring a free evening of music to the residents of BPC and Lower Manhattan and highlight the hard work of these neighborhood choral volunteers. On Thursday\, May 2nd at 7 PM join them for a concert celebrating peace\, love and joy through pop and folk music. Directed by Church Street School founder\, Dr. Lisa Ecklund-Flores
URL:https://downtownny.com/event/neighborhood-spotlight-the-downtown-beats/
LOCATION:Museum of Jewish Heritage
CATEGORIES:Arts & Culture
END:VEVENT
BEGIN:VEVENT
DTSTART;TZID=America/New_York:20240502T190000
DTEND;TZID=America/New_York:20240502T190000
DTSTAMP:20260421T171230
CREATED:20240430T194051Z
LAST-MODIFIED:20240430T194051Z
UID:96901-1714676400-1714676400@downtownny.com
SUMMARY:Monteverdi Vespers
DESCRIPTION:The Choir of Trinity Wall Street and Trinity Baroque Orchestra present Monteverdi’s Vespers of 1610\, a monumental masterpiece dedicated to Mary and considered one of the greatest works of sacred music ever written.
URL:https://downtownny.com/event/monteverdi-vespers/
LOCATION:Trinity Church
CATEGORIES:Arts & Culture
END:VEVENT
BEGIN:VEVENT
DTSTART;TZID=America/New_York:20240502T193000
DTEND;TZID=America/New_York:20240504T223000
DTSTAMP:20260421T171230
CREATED:20240430T194233Z
LAST-MODIFIED:20240430T194233Z
UID:96902-1714678200-1714861800@downtownny.com
SUMMARY:Illumination Light Art Festival
DESCRIPTION:Established & emerging artists to create wonderous works of light-based art installations for all New Yorkers to enjoy. Projection mapping\, interactive pieces\, live performances and much more. Headphones are free; ID is required. RSVP.
URL:https://downtownny.com/event/illumination-light-art-festival/
CATEGORIES:Arts & Culture
END:VEVENT
BEGIN:VEVENT
DTSTART;TZID=America/New_York:20240503T103000
DTEND;TZID=America/New_York:20240503T113000
DTSTAMP:20260421T171230
CREATED:20240430T194234Z
LAST-MODIFIED:20240430T194234Z
UID:96903-1714732200-1714735800@downtownny.com
SUMMARY:Adult Zumba
DESCRIPTION:Join in on the fun featuring easy-to-follow Latin dance choreography while working on your balance\, coordination and range of motion. Come prepared for enthusiastic instruction\, a little strength training and a lot of fun. Participants are encouraged to bring their own equipment: weights\, water bottle\, hand towel etc. Proof of vaccination required.
URL:https://downtownny.com/event/adult-zumba-141/
CATEGORIES:Community
END:VEVENT
BEGIN:VEVENT
DTSTART;TZID=America/New_York:20240405T110000
DTEND;TZID=America/New_York:20240405T180000
DTSTAMP:20260421T171230
CREATED:20240417T185956Z
LAST-MODIFIED:20240417T185956Z
UID:95953-1712314800-1712340000@downtownny.com
SUMMARY:Smorgasburg
DESCRIPTION:New York City’s favorite outdoor food market\, Smorgasburg\, is back at the World Trade Center. Starting on April 5\, on Fridays through October\, come out to Fulton Street and enjoy a variety of eats and treats from over 20 local vendors.
URL:https://downtownny.com/event/smorgasburg/
ATTACH;FMTTYPE=image/jpeg:https://downtownny.com/wp-content/uploads/2024/03/Smorg_2.jpg
END:VEVENT
END:VCALENDAR